Workbook

Sheet TEST REDUIT
B2: Test d'Eneagrama reduït
B3: Per realitzar aquest test només cal marcar amb una X les 3 o 4 afirmacions que més s'ajustin amb el nostre comportament general al llarg de la vida. Posteriorment es pot comprovar els resultats a la part inferior, a on els valors indicaran la intensitat amb la qual es manifesta cada eneatip dins els nostre Ego, corresponent-se els valors més alts amb els més presents i actius, podent-se trobar entre ells l'estratègia principal amb la qual interpreta la realitat el nostre Ego. Com tot test d'Eneagrama, els valors són orientatius i simplement ens serveixen de guia per a contrastar amb la informació sorgida del coneixement personal.
C6: Em considero una persona perfeccionista i no suporto els errors.
C7: M'agrada ajudar a les altres persones i sentir-me útil pels altres.
C8: M'agrada aconseguir el que em proposo i que les altres persones m'ho reconeguin.
C9: Sovint em sento diferent als altres i no em desagrada.
C10: No entenc per què les persones són tan il·lògiques i es deixen portar tant per les emocions.
C11: Em preocupa pensar que pugui equivocar-me al prendre una decisió.
C12: M'agrada fer coses diferents, anar a llocs nous i conèixer nova gent.
C13: En aquesta vida has d'actuar amb decisió perquè sinó et prenen el pel.
C14: Si pot ser evito el conflicte i m'adapto.
B16: RESULTATS
B18: E1 | C18: =Càlculs!B16 -> 0
B19: E2 | C19: =Càlculs!C16 -> 0
B20: E3 | C20: =Càlculs!D16 -> 0
B21: E4 | C21: =Càlculs!E16 -> 0
B22: E5 | C22: =Càlculs!F16 -> 0
B23: E6 | C23: =Càlculs!G16 -> 0
B24: E7 | C24: =Càlculs!H16 -> 0
B25: E8 | C25: =Càlculs!I16 -> 0
B26: E9 | C26: =Càlculs!J16 -> 0

Sheet Càlculs
B4: E1 | C4: E2 | D4: E3 | E4: E4 | F4: E5 | G4: E6 | H4: E7 | I4: E8 | J4: E9
B5: =(+COUNTA('TEST REDUIT'!$B$6)*10) -> 0 | C5: =(+COUNTA('TEST REDUIT'!$B$6)*3) -> 0 | D5: =(+COUNTA('TEST REDUIT'!$B$6)*7) -> 0 | E5: =(+COUNTA('TEST REDUIT'!$B$6)*0) -> 0 | F5: =(+COUNTA('TEST REDUIT'!$B$6)*7) -> 0 | G5: =(+COUNTA('TEST REDUIT'!$B$6)*5) -> 0 | H5: =(+COUNTA('TEST REDUIT'!$B$6)*0) -> 0 | I5: =(+COUNTA('TEST REDUIT'!$B$6)*5) -> 0 | J5: =(+COUNTA('TEST REDUIT'!$B$6)*3) -> 0
B6: =(+COUNTA('TEST REDUIT'!$B$7)*3) -> 0 | C6: =(+COUNTA('TEST REDUIT'!$B$7)*10) -> 0 | D6: =(+COUNTA('TEST REDUIT'!$B$7)*3) -> 0 | E6: =(+COUNTA('TEST REDUIT'!$B$7)*7) -> 0 | F6: =(+COUNTA('TEST REDUIT'!$B$7)*0) -> 0 | G6: =(+COUNTA('TEST REDUIT'!$B$7)*5) -> 0 | H6: =(+COUNTA('TEST REDUIT'!$B$7)*7) -> 0 | I6: =(+COUNTA('TEST REDUIT'!$B$7)*0) -> 0 | J6: =(+COUNTA('TEST REDUIT'!$B$7)*5) -> 0
B7: =(+COUNTA('TEST REDUIT'!$B$8)*3) -> 0 | C7: =(+COUNTA('TEST REDUIT'!$B$8)*7) -> 0 | D7: =(+COUNTA('TEST REDUIT'!$B$8)*10) -> 0 | E7: =(+COUNTA('TEST REDUIT'!$B$8)*3) -> 0 | F7: =(+COUNTA('TEST REDUIT'!$B$8)*0) -> 0 | G7: =(+COUNTA('TEST REDUIT'!$B$8)*7) -> 0 | H7: =(+COUNTA('TEST REDUIT'!$B$8)*5) -> 0 | I7: =(+COUNTA('TEST REDUIT'!$B$8)*5) -> 0 | J7: =(+COUNTA('TEST REDUIT'!$B$8)*0) -> 0
B8: =(+COUNTA('TEST REDUIT'!$B$9)*5) -> 0 | C8: =(+COUNTA('TEST REDUIT'!$B$9)*5) -> 0 | D8: =(+COUNTA('TEST REDUIT'!$B$9)*0) -> 0 | E8: =(+COUNTA('TEST REDUIT'!$B$9)*10) -> 0 | F8: =(+COUNTA('TEST REDUIT'!$B$9)*7) -> 0 | G8: =(+COUNTA('TEST REDUIT'!$B$9)*0) -> 0 | H8: =(+COUNTA('TEST REDUIT'!$B$9)*3) -> 0 | I8: =(+COUNTA('TEST REDUIT'!$B$9)*7) -> 0 | J8: =(+COUNTA('TEST REDUIT'!$B$9)*3) -> 0
B9: =(+COUNTA('TEST REDUIT'!$B$10)*7) -> 0 | C9: =(+COUNTA('TEST REDUIT'!$B$10)*0) -> 0 | D9: =(+COUNTA('TEST REDUIT'!$B$10)*7) -> 0 | E9: =(+COUNTA('TEST REDUIT'!$B$10)*0) -> 0 | F9: =(+COUNTA('TEST REDUIT'!$B$10)*10) -> 0 | G9: =(+COUNTA('TEST REDUIT'!$B$10)*3) -> 0 | H9: =(+COUNTA('TEST REDUIT'!$B$10)*3) -> 0 | I9: =(+COUNTA('TEST REDUIT'!$B$10)*5) -> 0 | J9: =(+COUNTA('TEST REDUIT'!$B$10)*5) -> 0
B10: =(+COUNTA('TEST REDUIT'!$B$11)*5) -> 0 | C10: =(+COUNTA('TEST REDUIT'!$B$11)*7) -> 0 | D10: =(+COUNTA('TEST REDUIT'!$B$11)*3) -> 0 | E10: =(+COUNTA('TEST REDUIT'!$B$11)*0) -> 0 | F10: =(+COUNTA('TEST REDUIT'!$B$11)*5) -> 0 | G10: =(+COUNTA('TEST REDUIT'!$B$11)*10) -> 0 | H10: =(+COUNTA('TEST REDUIT'!$B$11)*3) -> 0 | I10: =(+COUNTA('TEST REDUIT'!$B$11)*0) -> 0 | J10: =(+COUNTA('TEST REDUIT'!$B$11)*7) -> 0
B11: =(+COUNTA('TEST REDUIT'!$B$12)*0) -> 0 | C11: =(+COUNTA('TEST REDUIT'!$B$12)*7) -> 0 | D11: =(+COUNTA('TEST REDUIT'!$B$12)*5) -> 0 | E11: =(+COUNTA('TEST REDUIT'!$B$12)*7) -> 0 | F11: =(+COUNTA('TEST REDUIT'!$B$12)*3) -> 0 | G11: =(+COUNTA('TEST REDUIT'!$B$12)*0) -> 0 | H11: =(+COUNTA('TEST REDUIT'!$B$12)*10) -> 0 | I11: =(+COUNTA('TEST REDUIT'!$B$12)*5) -> 0 | J11: =(+COUNTA('TEST REDUIT'!$B$12)*3) -> 0
B12: =(+COUNTA('TEST REDUIT'!$B$13)*7) -> 0 | C12: =(+COUNTA('TEST REDUIT'!$B$13)*3) -> 0 | D12: =(+COUNTA('TEST REDUIT'!$B$13)*7) -> 0 | E12: =(+COUNTA('TEST REDUIT'!$B$13)*3) -> 0 | F12: =(+COUNTA('TEST REDUIT'!$B$13)*5) -> 0 | G12: =(+COUNTA('TEST REDUIT'!$B$13)*0) -> 0 | H12: =(+COUNTA('TEST REDUIT'!$B$13)*5) -> 0 | I12: =(+COUNTA('TEST REDUIT'!$B$13)*10) -> 0 | J12: =(+COUNTA('TEST REDUIT'!$B$13)*0) -> 0
B13: =(+COUNTA('TEST REDUIT'!$B$14)*3) -> 0 | C13: =(+COUNTA('TEST REDUIT'!$B$14)*0) -> 0 | D13: =(+COUNTA('TEST REDUIT'!$B$14)*5) -> 0 | E13: =(+COUNTA('TEST REDUIT'!$B$14)*3) -> 0 | F13: =(+COUNTA('TEST REDUIT'!$B$14)*7) -> 0 | G13: =(+COUNTA('TEST REDUIT'!$B$14)*5) -> 0 | H13: =(+COUNTA('TEST REDUIT'!$B$14)*7) -> 0 | I13: =(+COUNTA('TEST REDUIT'!$B$14)*0) -> 0 | J13: =(+COUNTA('TEST REDUIT'!$B$14)*10) -> 0
B15: E1 | C15: E2 | D15: E3 | E15: E4 | F15: E5 | G15: E6 | H15: E7 | I15: E8 | J15: E9
B16: =SUM(B5:B13) -> 0 | C16: =SUM(C5:C13) -> 0 | D16: =SUM(D5:D13) -> 0 | E16: =SUM(E5:E13) -> 0 | F16: =SUM(F5:F13) -> 0 | G16: =SUM(G5:G13) -> 0 | H16: =SUM(H5:H13) -> 0 | I16: =SUM(I5:I13) -> 0 | J16: =SUM(J5:J13) -> 0
